BEGIN:VCALENDAR
VERSION:2.0
PRODID:-//Friends of Moreau Lake State Park, Inc. - ECPv6.15.20//NONSGML v1.0//EN
CALSCALE:GREGORIAN
METHOD:PUBLISH
X-WR-CALNAME:Friends of Moreau Lake State Park, Inc.
X-ORIGINAL-URL:https://friendsofmoreaulake.org
X-WR-CALDESC:Events for Friends of Moreau Lake State Park, Inc.
REFRESH-INTERVAL;VALUE=DURATION:PT1H
X-Robots-Tag:noindex
X-PUBLISHED-TTL:PT1H
BEGIN:VTIMEZONE
TZID:America/New_York
BEGIN:DAYLIGHT
TZOFFSETFROM:-0500
TZOFFSETTO:-0400
TZNAME:EDT
DTSTART:20230312T070000
END:DAYLIGHT
BEGIN:STANDARD
TZOFFSETFROM:-0400
TZOFFSETTO:-0500
TZNAME:EST
DTSTART:20231105T060000
END:STANDARD
BEGIN:DAYLIGHT
TZOFFSETFROM:-0500
TZOFFSETTO:-0400
TZNAME:EDT
DTSTART:20240310T070000
END:DAYLIGHT
BEGIN:STANDARD
TZOFFSETFROM:-0400
TZOFFSETTO:-0500
TZNAME:EST
DTSTART:20241103T060000
END:STANDARD
BEGIN:DAYLIGHT
TZOFFSETFROM:-0500
TZOFFSETTO:-0400
TZNAME:EDT
DTSTART:20250309T070000
END:DAYLIGHT
BEGIN:STANDARD
TZOFFSETFROM:-0400
TZOFFSETTO:-0500
TZNAME:EST
DTSTART:20251102T060000
END:STANDARD
END:VTIMEZONE
BEGIN:VEVENT
DTSTART;TZID=America/New_York:20240428T083000
DTEND;TZID=America/New_York:20240428T103000
DTSTAMP:20260425T080711
CREATED:20231223T141828Z
LAST-MODIFIED:20240320T184552Z
UID:10007773-1714293000-1714300200@friendsofmoreaulake.org
SUMMARY:Beginner Bird Walk
DESCRIPTION:Calling all beginner birders. Join us on a guided hike to search for birds! Feel free to bring binoculars. The hike will be a start and stop walk for less than two miles. Class fees waved with food donations. Please reserve your spot at 518-793-0511.
URL:https://friendsofmoreaulake.org/event/beginner-bird-walk/2024-04-28/
END:VEVENT
BEGIN:VEVENT
DTSTART;TZID=America/New_York:20240428T100000
DTEND;TZID=America/New_York:20240428T113000
DTSTAMP:20260425T080711
CREATED:20240227T133724Z
LAST-MODIFIED:20240428T140846Z
UID:10007774-1714298400-1714303800@friendsofmoreaulake.org
SUMMARY:Trail Steward Meeting
DESCRIPTION:A meeting to introduce the trail steward program to newcomers. The duties of a trail steward include walking the trails of Moreau Lake State Park to identify and report maintenance needs\, light trail maintenance including cutting back branches with supplied hand saws and loppers and hanging trail signs when necessary. This meeting will provide crucial information on what to look for on the trails. Established trail stewards are welcome to come\, but it is not mandatory. This meeting is free. For any questions call 518-793-0511.
URL:https://friendsofmoreaulake.org/event/trail-steward-meeting/2024-04-28/
END:VEVENT
END:VCALENDAR