BEGIN:VCALENDAR
VERSION:2.0
PRODID:-//Friends of Moreau Lake State Park, Inc. - ECPv6.15.20//NONSGML v1.0//EN
CALSCALE:GREGORIAN
METHOD:PUBLISH
X-ORIGINAL-URL:https://friendsofmoreaulake.org
X-WR-CALDESC:Events for Friends of Moreau Lake State Park, Inc.
REFRESH-INTERVAL;VALUE=DURATION:PT1H
X-Robots-Tag:noindex
X-PUBLISHED-TTL:PT1H
BEGIN:VTIMEZONE
TZID:America/New_York
BEGIN:DAYLIGHT
TZOFFSETFROM:-0500
TZOFFSETTO:-0400
TZNAME:EDT
DTSTART:20230312T070000
END:DAYLIGHT
BEGIN:STANDARD
TZOFFSETFROM:-0400
TZOFFSETTO:-0500
TZNAME:EST
DTSTART:20231105T060000
END:STANDARD
BEGIN:DAYLIGHT
TZOFFSETFROM:-0500
TZOFFSETTO:-0400
TZNAME:EDT
DTSTART:20240310T070000
END:DAYLIGHT
BEGIN:STANDARD
TZOFFSETFROM:-0400
TZOFFSETTO:-0500
TZNAME:EST
DTSTART:20241103T060000
END:STANDARD
BEGIN:DAYLIGHT
TZOFFSETFROM:-0500
TZOFFSETTO:-0400
TZNAME:EDT
DTSTART:20250309T070000
END:DAYLIGHT
BEGIN:STANDARD
TZOFFSETFROM:-0400
TZOFFSETTO:-0500
TZNAME:EST
DTSTART:20251102T060000
END:STANDARD
END:VTIMEZONE
BEGIN:VEVENT
DTSTART;TZID=America/New_York:20240426T133000
DTEND;TZID=America/New_York:20240426T153000
DTSTAMP:20260423T102621
CREATED:20240320T184452Z
LAST-MODIFIED:20240326T204045Z
UID:10007772-1714138200-1714145400@friendsofmoreaulake.org
SUMMARY:Arbor Day Tree I.D. Walk
DESCRIPTION:Ever wonder about the names of the trees you walk by every day? This is the best time of the year to learn how to i.d. trees because if you can identify them by their bark will know them in any season! Pay $5 per person (cash or check) at the office upon arrival. Please register in advance by calling 518-793-0511. \nNYS Parks Centennial Challenge missions: \nNew York Native Identify a plant native to New York at a state park or historic site. \nTree I.D. Take a walk at a state park or historic sites and identify a tree native to New York State! \nhttps://parks.ny.gov/100/challenge/
URL:https://friendsofmoreaulake.org/event/arbor-day-tree-i-d-walk/
END:VEVENT
END:VCALENDAR