BEGIN:VCALENDAR
VERSION:2.0
PRODID:-//Friends of Moreau Lake State Park, Inc. - ECPv6.15.20//NONSGML v1.0//EN
CALSCALE:GREGORIAN
METHOD:PUBLISH
X-WR-CALNAME:Friends of Moreau Lake State Park, Inc.
X-ORIGINAL-URL:https://friendsofmoreaulake.org
X-WR-CALDESC:Events for Friends of Moreau Lake State Park, Inc.
REFRESH-INTERVAL;VALUE=DURATION:PT1H
X-Robots-Tag:noindex
X-PUBLISHED-TTL:PT1H
BEGIN:VTIMEZONE
TZID:America/New_York
BEGIN:DAYLIGHT
TZOFFSETFROM:-0500
TZOFFSETTO:-0400
TZNAME:EDT
DTSTART:20230312T070000
END:DAYLIGHT
BEGIN:STANDARD
TZOFFSETFROM:-0400
TZOFFSETTO:-0500
TZNAME:EST
DTSTART:20231105T060000
END:STANDARD
BEGIN:DAYLIGHT
TZOFFSETFROM:-0500
TZOFFSETTO:-0400
TZNAME:EDT
DTSTART:20240310T070000
END:DAYLIGHT
BEGIN:STANDARD
TZOFFSETFROM:-0400
TZOFFSETTO:-0500
TZNAME:EST
DTSTART:20241103T060000
END:STANDARD
BEGIN:DAYLIGHT
TZOFFSETFROM:-0500
TZOFFSETTO:-0400
TZNAME:EDT
DTSTART:20250309T070000
END:DAYLIGHT
BEGIN:STANDARD
TZOFFSETFROM:-0400
TZOFFSETTO:-0500
TZNAME:EST
DTSTART:20251102T060000
END:STANDARD
END:VTIMEZONE
BEGIN:VEVENT
DTSTART;TZID=America/New_York:20240325T080000
DTEND;TZID=America/New_York:20240325T150000
DTSTAMP:20260425T080711
CREATED:20240111T155843Z
LAST-MODIFIED:20240320T163419Z
UID:10006393-1711353600-1711378800@friendsofmoreaulake.org
SUMMARY:Warming Hut Open
DESCRIPTION:Stop by the warming hut to well\, warm up!! The Friends volunteer to staff it on weekends to provide hot chocolate and treats – they are also a wealth of information so stop in to say “Hi”. It closes at 3pm.
URL:https://friendsofmoreaulake.org/event/warming-hut-open/2024-03-25/
END:VEVENT
BEGIN:VEVENT
DTSTART;TZID=America/New_York:20240325T140000
DTEND;TZID=America/New_York:20240325T153000
DTSTAMP:20260425T080711
CREATED:20240227T134837Z
LAST-MODIFIED:20240227T134837Z
UID:10007147-1711375200-1711380600@friendsofmoreaulake.org
SUMMARY:Mud Pond Hike
DESCRIPTION:Join an Educator on an easier 2.1-mile hike from Nature Trail to Mud Pond. We might just see some beaver lodges. Bring plenty of water\, snacks\, waterproof shoes\, and appropriate clothing for the weather. We have snowshoes\, trekking poles\, and microspikes to rent at our park office. The cost for the hike is $5 (cash or check). Please reserve your spot in advance by calling the office at 518-793-0511.
URL:https://friendsofmoreaulake.org/event/mud-pond-hike-2/
END:VEVENT
BEGIN:VEVENT
DTSTART;TZID=America/New_York:20240325T190000
DTEND;TZID=America/New_York:20240325T203000
DTSTAMP:20260425T080711
CREATED:20240227T134921Z
LAST-MODIFIED:20240227T134921Z
UID:10007148-1711393200-1711398600@friendsofmoreaulake.org
SUMMARY:Full Moon Hike
DESCRIPTION:Join a Park Educator on a beginner hike around Moreau Lake. If the clouds cooperate\, we’ll get to enjoy the splendor of the moon rising above the mountains! This hike is family friendly and well-behaved dogs on a 6 foot or shorter leash are welcome. Dress for the weather and bring micro-spikes or snowshoes; there are limited numbers of micro-spikes to borrow and snowshoes to rent if weather-appropriate- let us know if you need either when you sign up. Reservations are required at least 24 hours in advance- the earlier the better as this is a popular program and it fills up quickly. To reserve your spot call 518-793-0511.
URL:https://friendsofmoreaulake.org/event/full-moon-hike-6/
END:VEVENT
END:VCALENDAR