BEGIN:VCALENDAR
VERSION:2.0
PRODID:-//Friends of Moreau Lake State Park, Inc. - ECPv6.15.20//NONSGML v1.0//EN
CALSCALE:GREGORIAN
METHOD:PUBLISH
X-WR-CALNAME:Friends of Moreau Lake State Park, Inc.
X-ORIGINAL-URL:https://friendsofmoreaulake.org
X-WR-CALDESC:Events for Friends of Moreau Lake State Park, Inc.
REFRESH-INTERVAL;VALUE=DURATION:PT1H
X-Robots-Tag:noindex
X-PUBLISHED-TTL:PT1H
BEGIN:VTIMEZONE
TZID:America/New_York
BEGIN:DAYLIGHT
TZOFFSETFROM:-0500
TZOFFSETTO:-0400
TZNAME:EDT
DTSTART:20230312T070000
END:DAYLIGHT
BEGIN:STANDARD
TZOFFSETFROM:-0400
TZOFFSETTO:-0500
TZNAME:EST
DTSTART:20231105T060000
END:STANDARD
BEGIN:DAYLIGHT
TZOFFSETFROM:-0500
TZOFFSETTO:-0400
TZNAME:EDT
DTSTART:20240310T070000
END:DAYLIGHT
BEGIN:STANDARD
TZOFFSETFROM:-0400
TZOFFSETTO:-0500
TZNAME:EST
DTSTART:20241103T060000
END:STANDARD
BEGIN:DAYLIGHT
TZOFFSETFROM:-0500
TZOFFSETTO:-0400
TZNAME:EDT
DTSTART:20250309T070000
END:DAYLIGHT
BEGIN:STANDARD
TZOFFSETFROM:-0400
TZOFFSETTO:-0500
TZNAME:EST
DTSTART:20251102T060000
END:STANDARD
END:VTIMEZONE
BEGIN:VEVENT
DTSTART;TZID=America/New_York:20240323T080000
DTEND;TZID=America/New_York:20240323T150000
DTSTAMP:20260423T132743
CREATED:20240111T155843Z
LAST-MODIFIED:20240320T163419Z
UID:10006391-1711180800-1711206000@friendsofmoreaulake.org
SUMMARY:Warming Hut Open
DESCRIPTION:Stop by the warming hut to well\, warm up!! The Friends volunteer to staff it on weekends to provide hot chocolate and treats – they are also a wealth of information so stop in to say “Hi”. It closes at 3pm.
URL:https://friendsofmoreaulake.org/event/warming-hut-open/2024-03-23/
END:VEVENT
BEGIN:VEVENT
DTSTART;TZID=America/New_York:20240323T110000
DTEND;TZID=America/New_York:20240323T123000
DTSTAMP:20260423T132743
CREATED:20240227T134755Z
LAST-MODIFIED:20240227T134755Z
UID:10007146-1711191600-1711197000@friendsofmoreaulake.org
SUMMARY:Trail Marker Craft
DESCRIPTION:We will create lovely works of art by upcycling otherwise unusable trail markers. This program is suited for anyone who enjoys our trails in particular\, our park in general or simply likes to make unique art. The cost is $5 for adults and $1 for children (cash or check) Please reserve your spot in advance by calling the office at 518-793-0511.
URL:https://friendsofmoreaulake.org/event/trail-marker-craft/
END:VEVENT
END:VCALENDAR