BEGIN:VCALENDAR
VERSION:2.0
PRODID:-//Friends of Moreau Lake State Park, Inc. - ECPv6.15.20//NONSGML v1.0//EN
CALSCALE:GREGORIAN
METHOD:PUBLISH
X-ORIGINAL-URL:https://friendsofmoreaulake.org
X-WR-CALDESC:Events for Friends of Moreau Lake State Park, Inc.
REFRESH-INTERVAL;VALUE=DURATION:PT1H
X-Robots-Tag:noindex
X-PUBLISHED-TTL:PT1H
BEGIN:VTIMEZONE
TZID:America/New_York
BEGIN:DAYLIGHT
TZOFFSETFROM:-0500
TZOFFSETTO:-0400
TZNAME:EDT
DTSTART:20230312T070000
END:DAYLIGHT
BEGIN:STANDARD
TZOFFSETFROM:-0400
TZOFFSETTO:-0500
TZNAME:EST
DTSTART:20231105T060000
END:STANDARD
BEGIN:DAYLIGHT
TZOFFSETFROM:-0500
TZOFFSETTO:-0400
TZNAME:EDT
DTSTART:20240310T070000
END:DAYLIGHT
BEGIN:STANDARD
TZOFFSETFROM:-0400
TZOFFSETTO:-0500
TZNAME:EST
DTSTART:20241103T060000
END:STANDARD
BEGIN:DAYLIGHT
TZOFFSETFROM:-0500
TZOFFSETTO:-0400
TZNAME:EDT
DTSTART:20250309T070000
END:DAYLIGHT
BEGIN:STANDARD
TZOFFSETFROM:-0400
TZOFFSETTO:-0500
TZNAME:EST
DTSTART:20251102T060000
END:STANDARD
END:VTIMEZONE
BEGIN:VEVENT
DTSTART;TZID=America/New_York:20240319T080000
DTEND;TZID=America/New_York:20240319T150000
DTSTAMP:20260423T145345
CREATED:20240111T155843Z
LAST-MODIFIED:20240320T163419Z
UID:10006387-1710835200-1710860400@friendsofmoreaulake.org
SUMMARY:Warming Hut Open
DESCRIPTION:Stop by the warming hut to well\, warm up!! The Friends volunteer to staff it on weekends to provide hot chocolate and treats – they are also a wealth of information so stop in to say “Hi”. It closes at 3pm.
URL:https://friendsofmoreaulake.org/event/warming-hut-open/2024-03-19/
END:VEVENT
BEGIN:VEVENT
DTSTART;TZID=America/New_York:20240319T100000
DTEND;TZID=America/New_York:20240319T113000
DTSTAMP:20260423T145345
CREATED:20240227T134414Z
LAST-MODIFIED:20240227T134414Z
UID:10007143-1710842400-1710847800@friendsofmoreaulake.org
SUMMARY:Spring Equinox Forest Bathing
DESCRIPTION:The spring equinox will kick off our weekly forest bathing once again! Coined shinrin-yoku in Japan in the 1980’s\, forest bathing is the ecotherapeutic practice of spending time immersed in nature\, absorbing it with all of your senses. The physiological and psychological benefits last for days afterward with the additional benefit of a new appreciation of our precious woodland and its inhabitants. This is a beginner-rated walk along the Nature Trail with long pauses to sit and enhance our awareness of our surroundings and it is approximately a 2-hour program. A small mat is beneficial to ensure a dry seat. This program is limited to those age 14 and up. Pay $5 per person (cash or check) at the office upon arrival. Registration in advance by calling 518-793-0511.
URL:https://friendsofmoreaulake.org/event/spring-equinox-forest-bathing/
END:VEVENT
BEGIN:VEVENT
DTSTART;TZID=America/New_York:20240319T140000
DTEND;TZID=America/New_York:20240319T153000
DTSTAMP:20260423T145345
CREATED:20240227T134507Z
LAST-MODIFIED:20240227T134507Z
UID:10007144-1710856800-1710862200@friendsofmoreaulake.org
SUMMARY:Starting Seeds and Setting Intentions
DESCRIPTION:Of many traditional ways to acknowledge the spring equinox some of my favorites include celebrating the re-awakening of the earth with new growth\, and stating my intentions for the new season. This program combines both- we will write our intentions on paper and plant them in the soil we place our seeds in. All supplies are provided- you are welcome to bring seeds to share! The program fee is $5 (cash or check). Please reserve your spot in advance by calling the office at 518-793-0511.
URL:https://friendsofmoreaulake.org/event/starting-seeds-and-setting-intentions/
END:VEVENT
END:VCALENDAR