BEGIN:VCALENDAR
VERSION:2.0
PRODID:-//Friends of Moreau Lake State Park, Inc. - ECPv6.15.20//NONSGML v1.0//EN
CALSCALE:GREGORIAN
METHOD:PUBLISH
X-WR-CALNAME:Friends of Moreau Lake State Park, Inc.
X-ORIGINAL-URL:https://friendsofmoreaulake.org
X-WR-CALDESC:Events for Friends of Moreau Lake State Park, Inc.
REFRESH-INTERVAL;VALUE=DURATION:PT1H
X-Robots-Tag:noindex
X-PUBLISHED-TTL:PT1H
BEGIN:VTIMEZONE
TZID:America/New_York
BEGIN:DAYLIGHT
TZOFFSETFROM:-0500
TZOFFSETTO:-0400
TZNAME:EDT
DTSTART:20230312T070000
END:DAYLIGHT
BEGIN:STANDARD
TZOFFSETFROM:-0400
TZOFFSETTO:-0500
TZNAME:EST
DTSTART:20231105T060000
END:STANDARD
BEGIN:DAYLIGHT
TZOFFSETFROM:-0500
TZOFFSETTO:-0400
TZNAME:EDT
DTSTART:20240310T070000
END:DAYLIGHT
BEGIN:STANDARD
TZOFFSETFROM:-0400
TZOFFSETTO:-0500
TZNAME:EST
DTSTART:20241103T060000
END:STANDARD
BEGIN:DAYLIGHT
TZOFFSETFROM:-0500
TZOFFSETTO:-0400
TZNAME:EDT
DTSTART:20250309T070000
END:DAYLIGHT
BEGIN:STANDARD
TZOFFSETFROM:-0400
TZOFFSETTO:-0500
TZNAME:EST
DTSTART:20251102T060000
END:STANDARD
END:VTIMEZONE
BEGIN:VEVENT
DTSTART;TZID=America/New_York:20240310T080000
DTEND;TZID=America/New_York:20240310T150000
DTSTAMP:20260423T145222
CREATED:20240111T155843Z
LAST-MODIFIED:20240320T163419Z
UID:10006378-1710057600-1710082800@friendsofmoreaulake.org
SUMMARY:Warming Hut Open
DESCRIPTION:Stop by the warming hut to well\, warm up!! The Friends volunteer to staff it on weekends to provide hot chocolate and treats – they are also a wealth of information so stop in to say “Hi”. It closes at 3pm.
URL:https://friendsofmoreaulake.org/event/warming-hut-open/2024-03-10/
END:VEVENT
BEGIN:VEVENT
DTSTART;TZID=America/New_York:20240310T100000
DTEND;TZID=America/New_York:20240310T110000
DTSTAMP:20260423T145222
CREATED:20240227T133724Z
LAST-MODIFIED:20240428T140846Z
UID:10007134-1710064800-1710068400@friendsofmoreaulake.org
SUMMARY:Trail Steward Meeting
DESCRIPTION:A meeting to introduce the trail steward program to newcomers. The duties of a trail steward include walking the trails of Moreau Lake State Park to identify and report maintenance needs\, light trail maintenance including cutting back branches with supplied hand saws and loppers and hanging trail signs when necessary. This meeting will provide crucial information on what to look for on the trails. Established trail stewards are welcome to come\, but it is not mandatory. This meeting is free. For any questions call 518-793-0511.
URL:https://friendsofmoreaulake.org/event/trail-steward-meeting/2024-03-10/
END:VEVENT
END:VCALENDAR