BEGIN:VCALENDAR
VERSION:2.0
PRODID:-//Friends of Moreau Lake State Park, Inc. - ECPv6.15.20//NONSGML v1.0//EN
CALSCALE:GREGORIAN
METHOD:PUBLISH
X-ORIGINAL-URL:https://friendsofmoreaulake.org
X-WR-CALDESC:Events for Friends of Moreau Lake State Park, Inc.
REFRESH-INTERVAL;VALUE=DURATION:PT1H
X-Robots-Tag:noindex
X-PUBLISHED-TTL:PT1H
BEGIN:VTIMEZONE
TZID:America/New_York
BEGIN:DAYLIGHT
TZOFFSETFROM:-0500
TZOFFSETTO:-0400
TZNAME:EDT
DTSTART:20230312T070000
END:DAYLIGHT
BEGIN:STANDARD
TZOFFSETFROM:-0400
TZOFFSETTO:-0500
TZNAME:EST
DTSTART:20231105T060000
END:STANDARD
BEGIN:DAYLIGHT
TZOFFSETFROM:-0500
TZOFFSETTO:-0400
TZNAME:EDT
DTSTART:20240310T070000
END:DAYLIGHT
BEGIN:STANDARD
TZOFFSETFROM:-0400
TZOFFSETTO:-0500
TZNAME:EST
DTSTART:20241103T060000
END:STANDARD
BEGIN:DAYLIGHT
TZOFFSETFROM:-0500
TZOFFSETTO:-0400
TZNAME:EDT
DTSTART:20250309T070000
END:DAYLIGHT
BEGIN:STANDARD
TZOFFSETFROM:-0400
TZOFFSETTO:-0500
TZNAME:EST
DTSTART:20251102T060000
END:STANDARD
END:VTIMEZONE
BEGIN:VEVENT
DTSTART;TZID=America/New_York:20240305T080000
DTEND;TZID=America/New_York:20240305T150000
DTSTAMP:20260423T145345
CREATED:20240111T155843Z
LAST-MODIFIED:20240320T163419Z
UID:10006373-1709625600-1709650800@friendsofmoreaulake.org
SUMMARY:Warming Hut Open
DESCRIPTION:Stop by the warming hut to well\, warm up!! The Friends volunteer to staff it on weekends to provide hot chocolate and treats – they are also a wealth of information so stop in to say “Hi”. It closes at 3pm.
URL:https://friendsofmoreaulake.org/event/warming-hut-open/2024-03-05/
END:VEVENT
BEGIN:VEVENT
DTSTART;TZID=America/New_York:20240305T100000
DTEND;TZID=America/New_York:20240305T110000
DTSTAMP:20260423T145345
CREATED:20240227T133342Z
LAST-MODIFIED:20240227T133342Z
UID:10007129-1709632800-1709636400@friendsofmoreaulake.org
SUMMARY:Seed Starting and Compost Making
DESCRIPTION:Come on down to the Nature Center where we will be starting vegetable and flower seeds as well as discussing the why’s and how’s of composting. This program is for people interested in growing their knowledge\, whether you’ve been gardening for years or are starting seeds for the first time. Materials provided\, seed sharing welcome! $5 program fee payable at the office upon your arrival (cash or check). To reserve your spot call 518-793-0511.
URL:https://friendsofmoreaulake.org/event/seed-starting-and-compost-making/
END:VEVENT
BEGIN:VEVENT
DTSTART;TZID=America/New_York:20240305T130000
DTEND;TZID=America/New_York:20240305T143000
DTSTAMP:20260423T145345
CREATED:20240227T133422Z
LAST-MODIFIED:20240227T133422Z
UID:10007130-1709643600-1709649000@friendsofmoreaulake.org
SUMMARY:Potter Point Hike
DESCRIPTION:A fun little walk along the Hudson River on a lesser-known parcel of land will surely impress anyone who enjoys a little walk off trail. The hike will have some rolling hills but there are also a few spots where we will have some tricky footing or wet sloppy walking. Pleases dress accordingly for the weather and wear appropriate hiking boots. The cost for the hike is $5 (cash or check) Please reserve your spot in advance by calling the office at 518-793-0511.
URL:https://friendsofmoreaulake.org/event/potter-point-hike/
END:VEVENT
END:VCALENDAR