BEGIN:VCALENDAR
VERSION:2.0
PRODID:-//Friends of Moreau Lake State Park, Inc. - ECPv6.15.20//NONSGML v1.0//EN
CALSCALE:GREGORIAN
METHOD:PUBLISH
X-ORIGINAL-URL:https://friendsofmoreaulake.org
X-WR-CALDESC:Events for Friends of Moreau Lake State Park, Inc.
REFRESH-INTERVAL;VALUE=DURATION:PT1H
X-Robots-Tag:noindex
X-PUBLISHED-TTL:PT1H
BEGIN:VTIMEZONE
TZID:America/New_York
BEGIN:DAYLIGHT
TZOFFSETFROM:-0500
TZOFFSETTO:-0400
TZNAME:EDT
DTSTART:20230312T070000
END:DAYLIGHT
BEGIN:STANDARD
TZOFFSETFROM:-0400
TZOFFSETTO:-0500
TZNAME:EST
DTSTART:20231105T060000
END:STANDARD
BEGIN:DAYLIGHT
TZOFFSETFROM:-0500
TZOFFSETTO:-0400
TZNAME:EDT
DTSTART:20240310T070000
END:DAYLIGHT
BEGIN:STANDARD
TZOFFSETFROM:-0400
TZOFFSETTO:-0500
TZNAME:EST
DTSTART:20241103T060000
END:STANDARD
BEGIN:DAYLIGHT
TZOFFSETFROM:-0500
TZOFFSETTO:-0400
TZNAME:EDT
DTSTART:20250309T070000
END:DAYLIGHT
BEGIN:STANDARD
TZOFFSETFROM:-0400
TZOFFSETTO:-0500
TZNAME:EST
DTSTART:20251102T060000
END:STANDARD
END:VTIMEZONE
BEGIN:VEVENT
DTSTART;TZID=America/New_York:20240224T080000
DTEND;TZID=America/New_York:20240224T150000
DTSTAMP:20260423T175204
CREATED:20240111T155843Z
LAST-MODIFIED:20240320T163419Z
UID:10006363-1708761600-1708786800@friendsofmoreaulake.org
SUMMARY:Warming Hut Open
DESCRIPTION:Stop by the warming hut to well\, warm up!! The Friends volunteer to staff it on weekends to provide hot chocolate and treats – they are also a wealth of information so stop in to say “Hi”. It closes at 3pm.
URL:https://friendsofmoreaulake.org/event/warming-hut-open/2024-02-24/
END:VEVENT
BEGIN:VEVENT
DTSTART;TZID=America/New_York:20240224T173000
DTEND;TZID=America/New_York:20240224T200000
DTSTAMP:20260423T175204
CREATED:20240119T142828Z
LAST-MODIFIED:20240119T142828Z
UID:10006795-1708795800-1708804800@friendsofmoreaulake.org
SUMMARY:Full Moon Hike
DESCRIPTION:Join a Park Educator on a beginner hike around Moreau Lake. If the clouds cooperate we’ll get to enjoy the splendor of the moon rising above the mountains! This hike is family friendly and well-behaved dogs on a 6 foot or shorter leash are welcome. Dress for the weather and bring micro-spikes or snowshoes; there are limited numbers of micro-spikes to borrow and snowshoes to rent if weather-appropriate- let us know if you need either when you sign up. Reservations are required at least 24 hours in advance- the earlier the better as this is a popular program and it fills up quickly. To reserve your spot call 518-793-0511. \nThis program is part of the NYS Parks Centennial Challenge- Look to the Stars Go stargazing at your local state park or historic site \nhttps://www.parks.ny.gov/100/challenge/
URL:https://friendsofmoreaulake.org/event/full-moon-hike-5/
END:VEVENT
END:VCALENDAR