BEGIN:VCALENDAR
VERSION:2.0
PRODID:-//Friends of Moreau Lake State Park, Inc. - ECPv6.15.20//NONSGML v1.0//EN
CALSCALE:GREGORIAN
METHOD:PUBLISH
X-WR-CALNAME:Friends of Moreau Lake State Park, Inc.
X-ORIGINAL-URL:https://friendsofmoreaulake.org
X-WR-CALDESC:Events for Friends of Moreau Lake State Park, Inc.
REFRESH-INTERVAL;VALUE=DURATION:PT1H
X-Robots-Tag:noindex
X-PUBLISHED-TTL:PT1H
BEGIN:VTIMEZONE
TZID:America/New_York
BEGIN:DAYLIGHT
TZOFFSETFROM:-0500
TZOFFSETTO:-0400
TZNAME:EDT
DTSTART:20220313T070000
END:DAYLIGHT
BEGIN:STANDARD
TZOFFSETFROM:-0400
TZOFFSETTO:-0500
TZNAME:EST
DTSTART:20221106T060000
END:STANDARD
BEGIN:DAYLIGHT
TZOFFSETFROM:-0500
TZOFFSETTO:-0400
TZNAME:EDT
DTSTART:20230312T070000
END:DAYLIGHT
BEGIN:STANDARD
TZOFFSETFROM:-0400
TZOFFSETTO:-0500
TZNAME:EST
DTSTART:20231105T060000
END:STANDARD
BEGIN:DAYLIGHT
TZOFFSETFROM:-0500
TZOFFSETTO:-0400
TZNAME:EDT
DTSTART:20240310T070000
END:DAYLIGHT
BEGIN:STANDARD
TZOFFSETFROM:-0400
TZOFFSETTO:-0500
TZNAME:EST
DTSTART:20241103T060000
END:STANDARD
END:VTIMEZONE
BEGIN:VEVENT
DTSTART;TZID=America/New_York:20231206T130000
DTEND;TZID=America/New_York:20231206T140000
DTSTAMP:20260425T164859
CREATED:20231124T172703Z
LAST-MODIFIED:20231124T172703Z
UID:10002918-1701867600-1701871200@friendsofmoreaulake.org
SUMMARY:Courteous Critters
DESCRIPTION:Humans are not the only animals to give gifts. Come learn about some of our native animals as well as animals around the world who give great gifts to secure a mate or a bond. This is a nice reminder to humans of the true purpose of gift-giving\, to strengthen our social relationships with the ones we love. Come to the nature center to learn from an educator about some of these courteous critters. The cost is $5 for adults and $1 for kids (cash or check) at the office upon arrival. You can register in advance at 518-793-0511.
URL:https://friendsofmoreaulake.org/event/courteous-critters/
END:VEVENT
END:VCALENDAR