BEGIN:VCALENDAR
VERSION:2.0
PRODID:-//Friends of Moreau Lake State Park, Inc. - ECPv6.15.20//NONSGML v1.0//EN
CALSCALE:GREGORIAN
METHOD:PUBLISH
X-ORIGINAL-URL:https://friendsofmoreaulake.org
X-WR-CALDESC:Events for Friends of Moreau Lake State Park, Inc.
REFRESH-INTERVAL;VALUE=DURATION:PT1H
X-Robots-Tag:noindex
X-PUBLISHED-TTL:PT1H
BEGIN:VTIMEZONE
TZID:America/New_York
BEGIN:DAYLIGHT
TZOFFSETFROM:-0500
TZOFFSETTO:-0400
TZNAME:EDT
DTSTART:20220313T070000
END:DAYLIGHT
BEGIN:STANDARD
TZOFFSETFROM:-0400
TZOFFSETTO:-0500
TZNAME:EST
DTSTART:20221106T060000
END:STANDARD
BEGIN:DAYLIGHT
TZOFFSETFROM:-0500
TZOFFSETTO:-0400
TZNAME:EDT
DTSTART:20230312T070000
END:DAYLIGHT
BEGIN:STANDARD
TZOFFSETFROM:-0400
TZOFFSETTO:-0500
TZNAME:EST
DTSTART:20231105T060000
END:STANDARD
BEGIN:DAYLIGHT
TZOFFSETFROM:-0500
TZOFFSETTO:-0400
TZNAME:EDT
DTSTART:20240310T070000
END:DAYLIGHT
BEGIN:STANDARD
TZOFFSETFROM:-0400
TZOFFSETTO:-0500
TZNAME:EST
DTSTART:20241103T060000
END:STANDARD
END:VTIMEZONE
BEGIN:VEVENT
DTSTART;TZID=America/New_York:20231123T120000
DTEND;TZID=America/New_York:20231123T140000
DTSTAMP:20260425T133142
CREATED:20231031T164657Z
LAST-MODIFIED:20231031T164657Z
UID:10002446-1700740800-1700748000@friendsofmoreaulake.org
SUMMARY:Thanksgiving Gratitude Walk
DESCRIPTION:Come to Moreau this Thanksgiving for a guided Nature Walk. As we go we’ll pay particular attention to the beauty and peace of our natural surroundings and focus on our gratitude for being here to appreciate it. This is a beginner-rated walk on the Nature Trail\, suitable for those of all ages. Registration is required at least 24 hours in advance\, call 518-793-0511.
URL:https://friendsofmoreaulake.org/event/thanksgiving-gratitude-walk-2/
END:VEVENT
END:VCALENDAR