BEGIN:VCALENDAR
VERSION:2.0
PRODID:-//Friends of Moreau Lake State Park, Inc. - ECPv6.15.20//NONSGML v1.0//EN
CALSCALE:GREGORIAN
METHOD:PUBLISH
X-WR-CALNAME:Friends of Moreau Lake State Park, Inc.
X-ORIGINAL-URL:https://friendsofmoreaulake.org
X-WR-CALDESC:Events for Friends of Moreau Lake State Park, Inc.
REFRESH-INTERVAL;VALUE=DURATION:PT1H
X-Robots-Tag:noindex
X-PUBLISHED-TTL:PT1H
BEGIN:VTIMEZONE
TZID:America/New_York
BEGIN:DAYLIGHT
TZOFFSETFROM:-0500
TZOFFSETTO:-0400
TZNAME:EDT
DTSTART:20220313T070000
END:DAYLIGHT
BEGIN:STANDARD
TZOFFSETFROM:-0400
TZOFFSETTO:-0500
TZNAME:EST
DTSTART:20221106T060000
END:STANDARD
BEGIN:DAYLIGHT
TZOFFSETFROM:-0500
TZOFFSETTO:-0400
TZNAME:EDT
DTSTART:20230312T070000
END:DAYLIGHT
BEGIN:STANDARD
TZOFFSETFROM:-0400
TZOFFSETTO:-0500
TZNAME:EST
DTSTART:20231105T060000
END:STANDARD
BEGIN:DAYLIGHT
TZOFFSETFROM:-0500
TZOFFSETTO:-0400
TZNAME:EDT
DTSTART:20240310T070000
END:DAYLIGHT
BEGIN:STANDARD
TZOFFSETFROM:-0400
TZOFFSETTO:-0500
TZNAME:EST
DTSTART:20241103T060000
END:STANDARD
END:VTIMEZONE
BEGIN:VEVENT
DTSTART;TZID=America/New_York:20231114T190000
DTEND;TZID=America/New_York:20231114T210000
DTSTAMP:20260425T133505
CREATED:20230823T164245Z
LAST-MODIFIED:20230823T164245Z
UID:10001112-1699988400-1699995600@friendsofmoreaulake.org
SUMMARY:Friends of Moreau Lake Monthly Meeting
DESCRIPTION:Please join us for our monthly general membership board meeting. It is open to the public and is held the second Tuesday of every month at 7pm via ZOOM.  The agenda is sent prior to the meeting to all members. If you would like to come to the meeting but are not a member\, please email: comments@fomlsp.org and we will send you the information to ZOOM as well as the agenda.
URL:https://friendsofmoreaulake.org/event/friends-of-moreau-lake-monthly-meeting/2023-11-14/
ATTACH;FMTTYPE=image/png:https://friendsofmoreaulake.org/wp-content/uploads/2021/10/New-Logo-200x200-1-e1633961946679.png
END:VEVENT
BEGIN:VEVENT
DTSTART;TZID=America/New_York:20231114T190000
DTEND;TZID=America/New_York:20231114T210000
DTSTAMP:20260425T133505
CREATED:20231031T164400Z
LAST-MODIFIED:20231031T165713Z
UID:10002443-1699988400-1699995600@friendsofmoreaulake.org
SUMMARY:Friends Monthly Board of Directors Meeting
DESCRIPTION:Everyone is welcome to attend the monthly Board of DirectorsMeetings for the Friends of Moreau Lake State Park. All meetings are held by ZOOM. The agenda and ZOOM log-in information is sent ahead of time to members. If you are not a member but would like to attend\, please email comments@fomlsp.org and we will respond ASAP. We hope you can join us!!
URL:https://friendsofmoreaulake.org/event/friends-monthly-board-meeting/
ATTACH;FMTTYPE=image/png:https://friendsofmoreaulake.org/wp-content/uploads/2021/10/New-Logo-200x200-1-e1633961946679.png
END:VEVENT
END:VCALENDAR