BEGIN:VCALENDAR
VERSION:2.0
PRODID:-//Friends of Moreau Lake State Park, Inc. - ECPv6.15.20//NONSGML v1.0//EN
CALSCALE:GREGORIAN
METHOD:PUBLISH
X-ORIGINAL-URL:https://friendsofmoreaulake.org
X-WR-CALDESC:Events for Friends of Moreau Lake State Park, Inc.
REFRESH-INTERVAL;VALUE=DURATION:PT1H
X-Robots-Tag:noindex
X-PUBLISHED-TTL:PT1H
BEGIN:VTIMEZONE
TZID:America/New_York
BEGIN:DAYLIGHT
TZOFFSETFROM:-0500
TZOFFSETTO:-0400
TZNAME:EDT
DTSTART:20220313T070000
END:DAYLIGHT
BEGIN:STANDARD
TZOFFSETFROM:-0400
TZOFFSETTO:-0500
TZNAME:EST
DTSTART:20221106T060000
END:STANDARD
BEGIN:DAYLIGHT
TZOFFSETFROM:-0500
TZOFFSETTO:-0400
TZNAME:EDT
DTSTART:20230312T070000
END:DAYLIGHT
BEGIN:STANDARD
TZOFFSETFROM:-0400
TZOFFSETTO:-0500
TZNAME:EST
DTSTART:20231105T060000
END:STANDARD
BEGIN:DAYLIGHT
TZOFFSETFROM:-0500
TZOFFSETTO:-0400
TZNAME:EDT
DTSTART:20240310T070000
END:DAYLIGHT
BEGIN:STANDARD
TZOFFSETFROM:-0400
TZOFFSETTO:-0500
TZNAME:EST
DTSTART:20241103T060000
END:STANDARD
END:VTIMEZONE
BEGIN:VEVENT
DTSTART;TZID=America/New_York:20231029T150000
DTEND;TZID=America/New_York:20231029T180000
DTSTAMP:20260425T133121
CREATED:20230915T133011Z
LAST-MODIFIED:20230915T133011Z
UID:10001169-1698591600-1698602400@friendsofmoreaulake.org
SUMMARY:Friends of Moreau Halloween Walk
DESCRIPTION:This is a very family friendly\, not scary\, leisurely stroll on our trails. Costumes are very welcome. This walk is not stroller navigable\, so bring a carrier for the littles ones! Please go to the Friends Of Moreau Lake State Park webpage for more information.
URL:https://friendsofmoreaulake.org/event/friends-of-moreau-halloween-walk/
END:VEVENT
BEGIN:VEVENT
DTSTART;TZID=America/New_York:20231029T180000
DTEND;TZID=America/New_York:20231029T200000
DTSTAMP:20260425T133121
CREATED:20230915T133107Z
LAST-MODIFIED:20230915T133107Z
UID:10001170-1698602400-1698609600@friendsofmoreaulake.org
SUMMARY:Full Moon Hike
DESCRIPTION:Join a Park Educator on a beginner hike around Moreau Lake. If the clouds cooperate we’ll get to enjoy the splendor of the moon rising above the mountains! This hike is family friendly and well-behaved dogs on a 6 foot or shorter leash are welcome. Reservations are required at least 24 hours in advance- the earlier the better as this is a popular program and it fills up quickly. The cost is $5 for adults and $1 per child\, payable by cash or check at the office upon your arrival. To reserve your spot call 518-793-0511.
URL:https://friendsofmoreaulake.org/event/full-moon-hike-2/
END:VEVENT
END:VCALENDAR