BEGIN:VCALENDAR
VERSION:2.0
PRODID:-//Friends of Moreau Lake State Park, Inc. - ECPv6.15.20//NONSGML v1.0//EN
CALSCALE:GREGORIAN
METHOD:PUBLISH
X-WR-CALNAME:Friends of Moreau Lake State Park, Inc.
X-ORIGINAL-URL:https://friendsofmoreaulake.org
X-WR-CALDESC:Events for Friends of Moreau Lake State Park, Inc.
REFRESH-INTERVAL;VALUE=DURATION:PT1H
X-Robots-Tag:noindex
X-PUBLISHED-TTL:PT1H
BEGIN:VTIMEZONE
TZID:America/New_York
BEGIN:DAYLIGHT
TZOFFSETFROM:-0500
TZOFFSETTO:-0400
TZNAME:EDT
DTSTART:20220313T070000
END:DAYLIGHT
BEGIN:STANDARD
TZOFFSETFROM:-0400
TZOFFSETTO:-0500
TZNAME:EST
DTSTART:20221106T060000
END:STANDARD
BEGIN:DAYLIGHT
TZOFFSETFROM:-0500
TZOFFSETTO:-0400
TZNAME:EDT
DTSTART:20230312T070000
END:DAYLIGHT
BEGIN:STANDARD
TZOFFSETFROM:-0400
TZOFFSETTO:-0500
TZNAME:EST
DTSTART:20231105T060000
END:STANDARD
BEGIN:DAYLIGHT
TZOFFSETFROM:-0500
TZOFFSETTO:-0400
TZNAME:EDT
DTSTART:20240310T070000
END:DAYLIGHT
BEGIN:STANDARD
TZOFFSETFROM:-0400
TZOFFSETTO:-0500
TZNAME:EST
DTSTART:20241103T060000
END:STANDARD
END:VTIMEZONE
BEGIN:VEVENT
DTSTART;TZID=America/New_York:20231017T130000
DTEND;TZID=America/New_York:20231017T143000
DTSTAMP:20260425T161415
CREATED:20230915T132635Z
LAST-MODIFIED:20230915T132635Z
UID:10001166-1697547600-1697553000@friendsofmoreaulake.org
SUMMARY:Insect Investigation
DESCRIPTION:Join an educator on a short walk around the nature center to explore the wonder and importance of our native insects. Geared toward elementary children\, 6-12 years old\, (homeschooler and siblings welcome). We will be collecting bugs\, looking closely at them\, and talking about their role in the ecosystem. It is not mandatory\, but feel free to bring your own jars\, we will have a couple to share. The cost is $1 per adult (18+) and $5 per child (cash or check) at the office upon arrival. Please register at least 24 hours in advance at 518-793-0511.
URL:https://friendsofmoreaulake.org/event/insect-investigation/
END:VEVENT
END:VCALENDAR